BEGIN:VCALENDAR
VERSION:2.0
PRODID:spatie/icalendar-generator
DESCRIPTION:Events from Adoptable Greythounds of Florida
X-WR-CALDESC:Events from Adoptable Greythounds of Florida
REFRESH-INTERVAL;VALUE=DURATION:PT1440M
X-PUBLISHED-TTL:PT1440M
BEGIN:VTIMEZONE
TZID:America/New_York
BEGIN:DAYLIGHT
DTSTART:20240310T020000Z
TZOFFSETFROM:-0500
TZOFFSETTO:-0400
END:DAYLIGHT
BEGIN:STANDARD
DTSTART:20241103T020000Z
TZOFFSETFROM:-0400
TZOFFSETTO:-0500
END:STANDARD
BEGIN:DAYLIGHT
DTSTART:20250309T020000Z
TZOFFSETFROM:-0500
TZOFFSETTO:-0400
END:DAYLIGHT
END:VTIMEZONE
BEGIN:VTIMEZONE
TZID:UTC
BEGIN:STANDARD
DTSTART:20250727T183155Z
TZOFFSETFROM:+0000
TZOFFSETTO:+0000
END:STANDARD
END:VTIMEZONE
BEGIN:VEVENT
UID:118-3
DTSTAMP:20260423T183155Z
SUMMARY:Meet &amp;amp\; Greet at Norma Jeans in Venice
LOCATION:Norma Jeans Sports Bar &amp;amp\; Grill 1635 U.S. 41 Bypass S  Venice 
 Florida 34285
ORGANIZER;CN=cdsuqcmy:MAILTO:cdsuqcmy@box5797.bluehost.com
RRULE:FREQ=MONTHLY;BYDAY=3SA;UNTIL=20260523T000000Z
DTSTART;TZID=America/New_York:20241019T110000
DTEND;TZID=America/New_York:20241019T130000
X-ALT-DESC;FMTTYPE=TEXT/HTML:&amp;nbsp\; Adoptable Greythounds of Florida Month
 ly Meet and Greet in Venice\, Florida.
CATEGORIES:Recurring Meet &amp; Greets
URL;VALUE=URI:https://agof.org/mc-events/meet-greet-at-norma-jeans-in-venic
 e/?mc_id=118
METHOD:PUBLISH
END:VEVENT
END:VCALENDAR