BEGIN:VCALENDAR
VERSION:2.0
PRODID:spatie/icalendar-generator
DESCRIPTION:Events from Adoptable Greythounds of Florida
X-WR-CALDESC:Events from Adoptable Greythounds of Florida
REFRESH-INTERVAL;VALUE=DURATION:PT1440M
X-PUBLISHED-TTL:PT1440M
BEGIN:VTIMEZONE
TZID:America/New_York
BEGIN:STANDARD
DTSTART:20251102T020000Z
TZOFFSETFROM:-0400
TZOFFSETTO:-0500
END:STANDARD
BEGIN:DAYLIGHT
DTSTART:20260308T020000Z
TZOFFSETFROM:-0500
TZOFFSETTO:-0400
END:DAYLIGHT
END:VTIMEZONE
BEGIN:VTIMEZONE
TZID:UTC
BEGIN:STANDARD
DTSTART:20250727T152057Z
TZOFFSETFROM:+0000
TZOFFSETTO:+0000
END:STANDARD
END:VTIMEZONE
BEGIN:VEVENT
UID:176-4
DTSTAMP:20260423T152057Z
SUMMARY:Meet &amp;amp\; Greet at Sidelines Sports Bar &amp;amp\; Grill
LOCATION:Sidelines Sports Bar &amp;amp\; Grill 4451 Veronica S Shoemaker Blvd\,
  Fort Myers\, FL 33916  Fort Myers Florida 33916
ORGANIZER;CN=cdsuqcmy:MAILTO:cdsuqcmy@box5797.bluehost.com
RRULE:FREQ=MONTHLY;BYDAY=4SU;UNTIL=20260427T000000Z
DTSTART;TZID=America/New_York:20260426T110000
DTEND;TZID=America/New_York:20260426T140000
X-ALT-DESC;FMTTYPE=TEXT/HTML:&amp;nbsp\; Adoptable Greythounds of Florida Month
 ly Meet and Greet in Fort Myers\, Florida.
CATEGORIES:Recurring Meet &amp; Greets
URL;VALUE=URI:https://agof.org/mc-events/meet-greet-at-sidelines-sports-bar
 -grill/?mc_id=176
METHOD:PUBLISH
END:VEVENT
END:VCALENDAR