BEGIN:VCALENDAR
VERSION:2.0
PRODID:spatie/icalendar-generator
DESCRIPTION:Events from Adoptable Greythounds of Florida
X-WR-CALDESC:Events from Adoptable Greythounds of Florida
REFRESH-INTERVAL;VALUE=DURATION:PT1440M
X-PUBLISHED-TTL:PT1440M
BEGIN:VTIMEZONE
TZID:America/New_York
BEGIN:DAYLIGHT
DTSTART:20260308T020000Z
TZOFFSETFROM:-0500
TZOFFSETTO:-0400
END:DAYLIGHT
BEGIN:STANDARD
DTSTART:20261101T020000Z
TZOFFSETFROM:-0400
TZOFFSETTO:-0500
END:STANDARD
END:VTIMEZONE
BEGIN:VTIMEZONE
TZID:UTC
BEGIN:STANDARD
DTSTART:20250727T165837Z
TZOFFSETFROM:+0000
TZOFFSETTO:+0000
END:STANDARD
END:VTIMEZONE
BEGIN:VEVENT
UID:84-2
DTSTAMP:20260423T165837Z
SUMMARY:Meet &amp;amp\; Greet at Petsmart Sarasota
LOCATION:Petsmart Sarasota Florida 6591 S Tamiami Trail  Sarasota Florida 3
 4231
ORGANIZER;CN=cdsuqcmy:MAILTO:cdsuqcmy@box5797.bluehost.com
RRULE:FREQ=MONTHLY;BYDAY=1SA;UNTIL=20270828T000000Z
DTSTART;TZID=America/New_York:20260801T110000
DTEND;TZID=America/New_York:20260801T130000
X-ALT-DESC;FMTTYPE=TEXT/HTML:&amp;nbsp\; Adoptable Greythounds of Florida Month
 ly Meet &amp;amp\; Greet at Petsmart in Sarasota\, FL. 1st Saturday of the mon
 th
CATEGORIES:Recurring Meet &amp; Greets
URL;VALUE=URI:https://agof.org/mc-events/meet-greet-at-petsmart-sarasota/?m
 c_id=84
METHOD:PUBLISH
END:VEVENT
END:VCALENDAR